



BEGIN:VCALENDAR
VERSION:2.0
PRODID:-//India Diversity Forum - ECPv6.9.0//NONSGML v1.0//EN
CALSCALE:GREGORIAN
METHOD:PUBLISH
X-WR-CALNAME:India Diversity Forum
X-ORIGINAL-URL:https://indiadiversityforum.org
X-WR-CALDESC:Events for India Diversity Forum
REFRESH-INTERVAL;VALUE=DURATION:PT1H
X-Robots-Tag:noindex
X-PUBLISHED-TTL:PT1H
BEGIN:VTIMEZONE
TZID:UTC
BEGIN:STANDARD
TZOFFSETFROM:+0000
TZOFFSETTO:+0000
TZNAME:UTC
DTSTART:20240101T000000
END:STANDARD
END:VTIMEZONE
BEGIN:VEVENT
DTSTART;TZID=UTC:20240118T090000
DTEND;TZID=UTC:20240120T170000
DTSTAMP:20260423T190421
CREATED:20230625T173419Z
LAST-MODIFIED:20240315T104053Z
UID:17013-1705568400-1705770000@indiadiversityforum.org
SUMMARY:ALL - INDIA MEMBERS' MEET OF INDIA DIVERSITY FORUM 2023
DESCRIPTION:[vc_row][vc_column width=”1/1″][vc_single_image image=”17009″ img_size=”full”][/vc_column][/vc_row][vc_row][vc_column width=”1/1″][vc_column_text] \nAbout Meet- \nAll-India Member’s Meet 2023 is a prestigious platform that aims to celebrate and promote diversity and inclusion across various sectors in India. It serves as a dynamic meeting ground for industry leaders\, policymakers\, and thought influencers to engage in meaningful discussions and share insights on fostering a diverse and inclusive work environment. The theme of this year’s meet is ” DE&I Latest Global Trends and Growth Opportunities.” We believe that diversity\, be it in terms of gender\, ethnicity\, or cultural backgrounds\, plays a pivotal role in driving innovation\, creativity\, and sustainable growth in organizations and society as a whole. The meet will feature keynote addresses\, panel discussions\, and interactive sessions that will provide valuable perspectives on leveraging diversity for organizational success. \nThe Meet intends to fulfil three broad objectives through curated sessions and interaction with renowned speakers: \n· Facilitate an understanding of key trends in DE&I\, impact and inclusive leadership \n· Enable peer level exchanges \n· Create a collaborative space for exchange of ideas and experiences \nAgenda– Tentative \nRegistration Form \n[/vc_column_text]Please enable JavaScript in your browser to complete this form.I would like to attend the "IDF's-All India Member's Meet" as a *IDF MemberIDF MemberDelegateSpeakerSponsorPartnerAdvertiserName  *Designation *Company Name *Mobile no *Email *Submit  [/vc_column][/vc_row][vc_row][vc_column width=”1/1″][/vc_column][/vc_row]
URL:https://indiadiversityforum.org/event/all-india-members-meet-of-india-diversity-forum-2023/
END:VEVENT
END:VCALENDAR